Package: procoil Version: 2.37.1 Command: /home/biocbuild/bbs-3.22-bioc/R/bin/R CMD check --install=check:procoil.install-out.txt --library=/home/biocbuild/bbs-3.22-bioc/R/site-library --timings procoil_2.37.1.tar.gz StartedAt: 2025-10-21 03:22:17 -0400 (Tue, 21 Oct 2025) EndedAt: 2025-10-21 03:24:21 -0400 (Tue, 21 Oct 2025) EllapsedTime: 124.1 seconds RetCode: 0 Status: OK CheckDir: procoil.Rcheck Warnings: 0