Package: procoil Version: 2.37.1 Command: /Library/Frameworks/R.framework/Resources/bin/R CMD INSTALL procoil StartedAt: 2025-10-01 15:19:48 -0400 (Wed, 01 Oct 2025) EndedAt: 2025-10-01 15:20:24 -0400 (Wed, 01 Oct 2025) EllapsedTime: 35.8 seconds RetCode: 0 Status: OK