Package: procoil Version: 2.37.1 Command: /Library/Frameworks/R.framework/Resources/bin/R CMD build --keep-empty-dirs --no-resave-data procoil StartedAt: 2025-10-01 18:21:44 -0400 (Wed, 01 Oct 2025) EndedAt: 2025-10-01 18:22:27 -0400 (Wed, 01 Oct 2025) EllapsedTime: 43.3 seconds RetCode: 0 Status: OK PackageFile: procoil_2.37.1.tar.gz PackageFileSize: 1.304 MiB