Package: procoil Version: 2.37.1 Command: rm -rf procoil.buildbin-libdir && mkdir procoil.buildbin-libdir && /Users/biocbuild/BBS/utils/build-universal.sh procoil_2.37.1.tar.gz /Library/Frameworks/R.framework/Resources/bin/R procoil.buildbin-libdir StartedAt: 2025-10-02 02:07:04 -0400 (Thu, 02 Oct 2025) EndedAt: 2025-10-02 02:07:44 -0400 (Thu, 02 Oct 2025) EllapsedTime: 40.4 seconds RetCode: 0 Status: OK PackageFile: procoil_2.37.1.tgz PackageFileSize: 1.594 MiB