Package: procoil Version: 2.37.1 Maintainer: Ulrich Bodenhofer MaintainerEmail: ulrich at bodenhofer.com git_url: https://git.bioconductor.org/packages/procoil git_branch: devel git_last_commit: 25a668c git_last_commit_date: 2025-09-19 07:44:55 -0400 (Fri, 19 Sep 2025)