Package: proDA Version: 1.23.0 Command: /home/biocbuild/R/R/bin/R CMD INSTALL proDA StartedAt: 2025-10-09 21:38:24 -0000 (Thu, 09 Oct 2025) EndedAt: 2025-10-09 21:38:50 -0000 (Thu, 09 Oct 2025) EllapsedTime: 26.7 seconds RetCode: 0 Status: OK