Package: proDA Version: 1.23.0 Command: /home/biocbuild/R/R/bin/R CMD build --keep-empty-dirs --no-resave-data proDA StartedAt: 2025-10-10 03:07:29 -0000 (Fri, 10 Oct 2025) EndedAt: 2025-10-10 03:09:37 -0000 (Fri, 10 Oct 2025) EllapsedTime: 128.2 seconds RetCode: 0 Status: OK PackageFile: proDA_1.23.0.tar.gz PackageFileSize: 1.181 MiB