Package: proDA Version: 1.23.0 Command: rm -rf proDA.buildbin-libdir && mkdir proDA.buildbin-libdir && F:\biocbuild\bbs-3.22-bioc\R\bin\R.exe CMD INSTALL --build --library=proDA.buildbin-libdir proDA_1.23.0.tar.gz StartedAt: 2025-08-15 10:59:51 -0400 (Fri, 15 Aug 2025) EndedAt: 2025-08-15 11:00:31 -0400 (Fri, 15 Aug 2025) EllapsedTime: 39.9 seconds RetCode: 0 Status: OK PackageFile: proDA_1.23.0.zip PackageFileSize: 1.086 MiB