Package: proDA Version: 1.23.0 Command: /home/biocbuild/bbs-3.22-bioc/R/bin/R CMD check --install=check:proDA.install-out.txt --library=/home/biocbuild/bbs-3.22-bioc/R/site-library --timings proDA_1.23.0.tar.gz StartedAt: 2025-10-07 03:08:28 -0400 (Tue, 07 Oct 2025) EndedAt: 2025-10-07 03:13:52 -0400 (Tue, 07 Oct 2025) EllapsedTime: 323.3 seconds RetCode: 0 Status: OK CheckDir: proDA.Rcheck Warnings: 0