Package: proDA Version: 1.23.0 Command: /home/biocbuild/bbs-3.23-bioc/R/bin/R CMD check --install=check:proDA.install-out.txt --library=/home/biocbuild/bbs-3.23-bioc/R/site-library --timings proDA_1.23.0.tar.gz StartedAt: 2025-10-23 03:46:40 -0000 (Thu, 23 Oct 2025) EndedAt: 2025-10-23 03:51:56 -0000 (Thu, 23 Oct 2025) EllapsedTime: 315.5 seconds RetCode: 0 Status: OK CheckDir: proDA.Rcheck Warnings: 0