Package: proDA Version: 1.25.0 Command: /Library/Frameworks/R.framework/Resources/bin/R CMD INSTALL proDA StartedAt: 2025-11-20 15:37:53 -0500 (Thu, 20 Nov 2025) EndedAt: 2025-11-20 15:38:21 -0500 (Thu, 20 Nov 2025) EllapsedTime: 28.3 seconds RetCode: 0 Status: OK