Package: proBAMr Version: 1.43.1 Command: /home/biocbuild/R/R/bin/R CMD INSTALL proBAMr StartedAt: 2025-10-09 21:44:50 -0000 (Thu, 09 Oct 2025) EndedAt: 2025-10-09 21:45:35 -0000 (Thu, 09 Oct 2025) EllapsedTime: 44.3 seconds RetCode: 0 Status: OK