Package: proBAMr Version: 1.43.1 Command: /home/biocbuild/R/R/bin/R CMD build --keep-empty-dirs --no-resave-data proBAMr StartedAt: 2025-10-10 03:07:03 -0000 (Fri, 10 Oct 2025) EndedAt: 2025-10-10 03:08:37 -0000 (Fri, 10 Oct 2025) EllapsedTime: 94.1 seconds RetCode: 0 Status: OK PackageFile: proBAMr_1.43.1.tar.gz PackageFileSize: 810.1 KiB