Package: proBAMr Version: 1.43.1 Command: rm -rf proBAMr.buildbin-libdir && mkdir proBAMr.buildbin-libdir && F:\biocbuild\bbs-3.22-bioc\R\bin\R.exe CMD INSTALL --build --library=proBAMr.buildbin-libdir proBAMr_1.43.1.tar.gz StartedAt: 2025-08-15 10:59:33 -0400 (Fri, 15 Aug 2025) EndedAt: 2025-08-15 11:00:20 -0400 (Fri, 15 Aug 2025) EllapsedTime: 46.7 seconds RetCode: 0 Status: OK PackageFile: proBAMr_1.43.1.zip PackageFileSize: 530.7 KiB