Package: proBAMr Version: 1.45.0 Command: /home/biocbuild/bbs-3.23-bioc/R/bin/R CMD INSTALL proBAMr StartedAt: 2025-11-04 15:39:08 -0500 (Tue, 04 Nov 2025) EndedAt: 2025-11-04 15:39:45 -0500 (Tue, 04 Nov 2025) EllapsedTime: 37.4 seconds RetCode: 0 Status: OK