Package: proBAMr Version: 1.45.0 Command: /home/biocbuild/bbs-3.23-bioc/R/bin/R CMD check --install=check:proBAMr.install-out.txt --library=/home/biocbuild/bbs-3.23-bioc/R/site-library --timings proBAMr_1.45.0.tar.gz StartedAt: 2025-11-07 02:33:17 -0500 (Fri, 07 Nov 2025) EndedAt: 2025-11-07 02:38:57 -0500 (Fri, 07 Nov 2025) EllapsedTime: 340.5 seconds RetCode: 0 Status: OK CheckDir: proBAMr.Rcheck Warnings: 0