Package: proBAMr Version: 1.45.0 Command: /home/biocbuild/bbs-3.23-bioc/R/bin/R CMD build --keep-empty-dirs --no-resave-data proBAMr StartedAt: 2025-11-04 19:16:46 -0500 (Tue, 04 Nov 2025) EndedAt: 2025-11-04 19:17:58 -0500 (Tue, 04 Nov 2025) EllapsedTime: 72.1 seconds RetCode: 0 Status: OK PackageFile: proBAMr_1.45.0.tar.gz PackageFileSize: 814.1 KiB