Package: proActiv Version: 1.19.3 Command: /Library/Frameworks/R.framework/Resources/bin/R CMD build --keep-empty-dirs --no-resave-data proActiv StartedAt: 2025-10-13 18:50:09 -0400 (Mon, 13 Oct 2025) EndedAt: 2025-10-13 18:51:34 -0400 (Mon, 13 Oct 2025) EllapsedTime: 85.8 seconds RetCode: 0 Status: OK PackageFile: proActiv_1.19.3.tar.gz PackageFileSize: 2.682 MiB