Package: proActiv Version: 1.19.3 Command: rm -rf proActiv.buildbin-libdir && mkdir proActiv.buildbin-libdir && /Users/biocbuild/BBS/utils/build-universal.sh proActiv_1.19.3.tar.gz /Library/Frameworks/R.framework/Resources/bin/R proActiv.buildbin-libdir StartedAt: 2025-10-14 03:00:35 -0400 (Tue, 14 Oct 2025) EndedAt: 2025-10-14 03:01:35 -0400 (Tue, 14 Oct 2025) EllapsedTime: 59.7 seconds RetCode: 0 Status: OK PackageFile: proActiv_1.19.3.tgz PackageFileSize: 2.779 MiB