Package: proActiv Version: 1.19.3 Maintainer: Joseph Lee MaintainerEmail: joseph.lee at u.nus.edu git_url: https://git.bioconductor.org/packages/proActiv git_branch: devel git_last_commit: 042c9f7 git_last_commit_date: 2025-07-31 13:22:45 -0400 (Thu, 31 Jul 2025)