Package: primirTSS Version: 1.27.0 Command: /Library/Frameworks/R.framework/Resources/bin/R CMD INSTALL primirTSS StartedAt: 2025-10-14 15:43:34 -0400 (Tue, 14 Oct 2025) EndedAt: 2025-10-14 15:44:31 -0400 (Tue, 14 Oct 2025) EllapsedTime: 57.6 seconds RetCode: 0 Status: OK