Package: primirTSS Version: 1.27.0 Command: /Library/Frameworks/R.framework/Resources/bin/R CMD INSTALL primirTSS StartedAt: 2025-10-06 15:26:56 -0400 (Mon, 06 Oct 2025) EndedAt: 2025-10-06 15:27:13 -0400 (Mon, 06 Oct 2025) EllapsedTime: 17.5 seconds RetCode: 0 Status: OK