Package: primirTSS Version: 1.27.0 Command: /Library/Frameworks/R.framework/Resources/bin/R CMD build --keep-empty-dirs --no-resave-data primirTSS StartedAt: 2025-10-05 17:24:59 -0400 (Sun, 05 Oct 2025) EndedAt: 2025-10-05 17:25:26 -0400 (Sun, 05 Oct 2025) EllapsedTime: 27.3 seconds RetCode: 0 Status: OK PackageFile: primirTSS_1.27.0.tar.gz PackageFileSize: 3.663 MiB