Package: primirTSS Version: 1.27.0 Command: rm -rf primirTSS.buildbin-libdir && mkdir primirTSS.buildbin-libdir && /Users/biocbuild/BBS/utils/build-universal.sh primirTSS_1.27.0.tar.gz /Library/Frameworks/R.framework/Resources/bin/R primirTSS.buildbin-libdir StartedAt: 2025-10-06 22:55:24 -0400 (Mon, 06 Oct 2025) EndedAt: 2025-10-06 22:55:43 -0400 (Mon, 06 Oct 2025) EllapsedTime: 18.4 seconds RetCode: 0 Status: OK PackageFile: primirTSS_1.27.0.tgz PackageFileSize: 3.779 MiB