Package: preprocessCore Version: 1.71.2 Command: /Library/Frameworks/R.framework/Resources/bin/R CMD check --install=check:preprocessCore.install-out.txt --library=/Library/Frameworks/R.framework/Resources/library --no-vignettes --timings preprocessCore_1.71.2.tar.gz StartedAt: 2025-10-08 00:00:24 -0400 (Wed, 08 Oct 2025) EndedAt: 2025-10-08 00:00:53 -0400 (Wed, 08 Oct 2025) EllapsedTime: 28.6 seconds RetCode: 0 Status: WARNINGS CheckDir: preprocessCore.Rcheck Warnings: 2