Package: preciseTAD Version: 1.21.0 Command: /home/biocbuild/bbs-3.23-bioc/R/bin/R CMD INSTALL preciseTAD StartedAt: 2025-11-04 16:00:17 -0500 (Tue, 04 Nov 2025) EndedAt: 2025-11-04 16:01:02 -0500 (Tue, 04 Nov 2025) EllapsedTime: 45.6 seconds RetCode: 0 Status: OK