Package: preciseTAD Version: 1.21.0 Command: /home/biocbuild/bbs-3.23-bioc/R/bin/R CMD check --install=check:preciseTAD.install-out.txt --library=/home/biocbuild/bbs-3.23-bioc/R/site-library --timings preciseTAD_1.21.0.tar.gz StartedAt: 2025-11-05 02:33:42 -0500 (Wed, 05 Nov 2025) EndedAt: 2025-11-05 02:47:18 -0500 (Wed, 05 Nov 2025) EllapsedTime: 816.0 seconds RetCode: 0 Status: OK CheckDir: preciseTAD.Rcheck Warnings: 0