Package: preciseTAD Version: 1.19.0 Command: /Library/Frameworks/R.framework/Resources/bin/R CMD check --install=check:preciseTAD.install-out.txt --library=/Library/Frameworks/R.framework/Resources/library --no-vignettes --timings preciseTAD_1.19.0.tar.gz StartedAt: 2025-10-22 21:23:17 -0400 (Wed, 22 Oct 2025) EndedAt: 2025-10-22 21:28:01 -0400 (Wed, 22 Oct 2025) EllapsedTime: 284.4 seconds RetCode: 0 Status: OK CheckDir: preciseTAD.Rcheck Warnings: 0