Package: prebs Version: 1.51.0 Command: /home/biocbuild/bbs-3.23-bioc/R/bin/R CMD build --keep-empty-dirs --no-resave-data prebs StartedAt: 2025-11-07 19:16:13 -0500 (Fri, 07 Nov 2025) EndedAt: 2025-11-07 19:18:50 -0500 (Fri, 07 Nov 2025) EllapsedTime: 157.2 seconds RetCode: 0 Status: OK PackageFile: prebs_1.51.0.tar.gz PackageFileSize: 282.7 KiB