Package: pram Version: 1.27.0 Command: /home/biocbuild/bbs-3.23-bioc/R/bin/R CMD INSTALL pram StartedAt: 2025-11-05 15:33:20 -0500 (Wed, 05 Nov 2025) EndedAt: 2025-11-05 15:33:52 -0500 (Wed, 05 Nov 2025) EllapsedTime: 31.8 seconds RetCode: 0 Status: OK