Package: pram Version: 1.25.1 Command: /Library/Frameworks/R.framework/Resources/bin/R CMD INSTALL pram StartedAt: 2025-10-20 15:29:00 -0400 (Mon, 20 Oct 2025) EndedAt: 2025-10-20 15:29:43 -0400 (Mon, 20 Oct 2025) EllapsedTime: 43.3 seconds RetCode: 0 Status: OK