Package: pram Version: 1.25.1 Command: /Library/Frameworks/R.framework/Resources/bin/R CMD build --keep-empty-dirs --no-resave-data pram StartedAt: 2025-10-20 18:50:50 -0400 (Mon, 20 Oct 2025) EndedAt: 2025-10-20 18:51:56 -0400 (Mon, 20 Oct 2025) EllapsedTime: 66.4 seconds RetCode: 0 Status: OK PackageFile: pram_1.25.1.tar.gz PackageFileSize: 2.666 MiB