Package: pram Version: 1.25.1 Command: rm -rf pram.buildbin-libdir && mkdir pram.buildbin-libdir && /Users/biocbuild/BBS/utils/build-universal.sh pram_1.25.1.tar.gz /Library/Frameworks/R.framework/Resources/bin/R pram.buildbin-libdir StartedAt: 2025-10-21 03:28:21 -0400 (Tue, 21 Oct 2025) EndedAt: 2025-10-21 03:29:07 -0400 (Tue, 21 Oct 2025) EllapsedTime: 46.4 seconds RetCode: 0 Status: OK PackageFile: pram_1.25.1.tgz PackageFileSize: 2.495 MiB