Package: pram Version: 1.25.1 Command: /Library/Frameworks/R.framework/Resources/bin/R CMD INSTALL pram StartedAt: 2025-10-08 15:19:57 -0400 (Wed, 08 Oct 2025) EndedAt: 2025-10-08 15:20:10 -0400 (Wed, 08 Oct 2025) EllapsedTime: 13.0 seconds RetCode: 0 Status: OK