Package: pram Version: 1.25.1 Command: /Library/Frameworks/R.framework/Resources/bin/R CMD build --keep-empty-dirs --no-resave-data pram StartedAt: 2025-10-08 17:28:39 -0400 (Wed, 08 Oct 2025) EndedAt: 2025-10-08 17:28:58 -0400 (Wed, 08 Oct 2025) EllapsedTime: 19.2 seconds RetCode: 0 Status: OK PackageFile: pram_1.25.1.tar.gz PackageFileSize: 2.666 MiB