Package: pqsfinder Version: 2.27.0 Command: /Library/Frameworks/R.framework/Resources/bin/R CMD INSTALL pqsfinder StartedAt: 2025-11-20 15:10:25 -0500 (Thu, 20 Nov 2025) EndedAt: 2025-11-20 15:10:38 -0500 (Thu, 20 Nov 2025) EllapsedTime: 12.8 seconds RetCode: 0 Status: OK