Package: pqsfinder Version: 2.27.0 Command: /Library/Frameworks/R.framework/Resources/bin/R CMD build --keep-empty-dirs --no-resave-data pqsfinder StartedAt: 2025-11-20 17:19:43 -0500 (Thu, 20 Nov 2025) EndedAt: 2025-11-20 17:20:35 -0500 (Thu, 20 Nov 2025) EllapsedTime: 51.6 seconds RetCode: 0 Status: OK PackageFile: pqsfinder_2.27.0.tar.gz PackageFileSize: 377.5 KiB