Package: ppcseq Version: 1.17.0 Command: /home/biocbuild/bbs-3.22-bioc/R/bin/R CMD INSTALL ppcseq StartedAt: 2025-10-09 15:11:18 -0400 (Thu, 09 Oct 2025) EndedAt: 2025-10-09 15:13:34 -0400 (Thu, 09 Oct 2025) EllapsedTime: 136.2 seconds RetCode: 0 Status: OK