Package: powerTCR Version: 1.29.0 Command: rm -rf powerTCR.buildbin-libdir && mkdir powerTCR.buildbin-libdir && F:\biocbuild\bbs-3.22-bioc\R\bin\R.exe CMD INSTALL --build --library=powerTCR.buildbin-libdir powerTCR_1.29.0.tar.gz StartedAt: 2025-08-15 10:58:49 -0400 (Fri, 15 Aug 2025) EndedAt: 2025-08-15 10:59:09 -0400 (Fri, 15 Aug 2025) EllapsedTime: 20.3 seconds RetCode: 0 Status: OK PackageFile: powerTCR_1.29.0.zip PackageFileSize: 406.3 KiB