Package: powerTCR Version: 1.31.0 Command: /home/biocbuild/bbs-3.23-bioc/R/bin/R CMD INSTALL powerTCR StartedAt: 2025-11-02 15:12:43 -0500 (Sun, 02 Nov 2025) EndedAt: 2025-11-02 15:13:23 -0500 (Sun, 02 Nov 2025) EllapsedTime: 40.0 seconds RetCode: 0 Status: OK