Package: podkat Version: 1.41.1 Command: /home/biocbuild/R/R/bin/R CMD INSTALL podkat StartedAt: 2025-10-23 20:50:02 -0000 (Thu, 23 Oct 2025) EndedAt: 2025-10-23 20:51:46 -0000 (Thu, 23 Oct 2025) EllapsedTime: 104.0 seconds RetCode: 0 Status: OK