Package: podkat Version: 1.41.1 Command: /home/biocbuild/bbs-3.22-bioc/R/bin/R CMD check --install=check:podkat.install-out.txt --library=/home/biocbuild/bbs-3.22-bioc/R/site-library --timings podkat_1.41.1.tar.gz StartedAt: 2025-10-18 03:17:41 -0400 (Sat, 18 Oct 2025) EndedAt: 2025-10-18 03:24:08 -0400 (Sat, 18 Oct 2025) EllapsedTime: 386.3 seconds RetCode: 0 Status: OK CheckDir: podkat.Rcheck Warnings: 0