Package: podkat Version: 1.43.0 Command: /home/biocbuild/bbs-3.23-bioc/R/bin/R CMD INSTALL podkat StartedAt: 2025-11-05 15:34:54 -0500 (Wed, 05 Nov 2025) EndedAt: 2025-11-05 15:36:08 -0500 (Wed, 05 Nov 2025) EllapsedTime: 74.1 seconds RetCode: 0 Status: OK