Package: podkat Version: 1.41.1 Command: /Library/Frameworks/R.framework/Resources/bin/R CMD INSTALL podkat StartedAt: 2025-09-30 15:29:31 -0400 (Tue, 30 Sep 2025) EndedAt: 2025-09-30 15:31:05 -0400 (Tue, 30 Sep 2025) EllapsedTime: 93.7 seconds RetCode: 0 Status: OK