Package: podkat Version: 1.41.1 Command: /Library/Frameworks/R.framework/Resources/bin/R CMD build --keep-empty-dirs --no-resave-data podkat StartedAt: 2025-10-01 18:19:53 -0400 (Wed, 01 Oct 2025) EndedAt: 2025-10-01 18:22:43 -0400 (Wed, 01 Oct 2025) EllapsedTime: 170.0 seconds RetCode: 0 Status: OK PackageFile: podkat_1.41.1.tar.gz PackageFileSize: 1.083 MiB