Package: podkat Version: 1.41.1 Command: rm -rf podkat.buildbin-libdir && mkdir podkat.buildbin-libdir && /Users/biocbuild/BBS/utils/build-universal.sh podkat_1.41.1.tar.gz /Library/Frameworks/R.framework/Resources/bin/R podkat.buildbin-libdir StartedAt: 2025-10-01 01:58:35 -0400 (Wed, 01 Oct 2025) EndedAt: 2025-10-01 02:00:17 -0400 (Wed, 01 Oct 2025) EllapsedTime: 101.6 seconds RetCode: 0 Status: OK PackageFile: podkat_1.41.1.tgz PackageFileSize: 2.485 MiB