Package: podkat Version: 1.41.1 Maintainer: Ulrich Bodenhofer MaintainerEmail: ulrich at bodenhofer.com git_url: https://git.bioconductor.org/packages/podkat git_branch: devel git_last_commit: af07a5d git_last_commit_date: 2025-09-19 07:35:34 -0400 (Fri, 19 Sep 2025)