Package: pmp Version: 1.23.1 Command: /home/biocbuild/bbs-3.23-bioc/R/bin/R CMD INSTALL pmp StartedAt: 2025-11-21 16:00:41 -0500 (Fri, 21 Nov 2025) EndedAt: 2025-11-21 16:01:05 -0500 (Fri, 21 Nov 2025) EllapsedTime: 24.3 seconds RetCode: 0 Status: OK