Package: pmp Version: 1.23.1 Command: /home/biocbuild/bbs-3.23-bioc/R/bin/R CMD build --keep-empty-dirs --no-resave-data pmp StartedAt: 2025-11-21 19:20:36 -0500 (Fri, 21 Nov 2025) EndedAt: 2025-11-21 19:22:00 -0500 (Fri, 21 Nov 2025) EllapsedTime: 84.1 seconds RetCode: 0 Status: OK PackageFile: pmp_1.23.1.tar.gz PackageFileSize: 4.877 MiB