Package: pmp Version: 1.23.1 Command: /Library/Frameworks/R.framework/Resources/bin/R CMD INSTALL pmp StartedAt: 2025-11-21 15:55:09 -0500 (Fri, 21 Nov 2025) EndedAt: 2025-11-21 15:55:45 -0500 (Fri, 21 Nov 2025) EllapsedTime: 35.8 seconds RetCode: 0 Status: OK